PDS_VERSION_ID = PDS3
DD_VERSION_ID = PDSCAT1R100
LABEL_REVISION_NOTE = "2017-05-01, David P. Mayer (USGS), initial PDS3 label pointing to GeoTIFF;"
RECORD_TYPE = FIXED_LENGTH
RECORD_BYTES = 5322
TARGET_NAME = MARS
^IMAGE = ("JEZ_ctx_B_soc_008_orthoMosaic_6m_Eqc_latTs0_lon0.tif", 30922 )
OBJECT = IMAGE
  LINES = 5040
  LINE_SAMPLES = 5322
  SAMPLE_BITS = 8
  SAMPLE_TYPE = LSB_UNSIGNED_INTEGER
  BANDS = 1
  BAND_STORAGE_TYPE = BAND_SEQUENTIAL
  SCALING_FACTOR = 1.0
  OFFSET = 0.0
END_OBJECT = IMAGE
OBJECT = IMAGE_MAP_PROJECTION
  MAP_PROJECTION_TYPE = EQUIRECTANGULAR
  A_AXIS_RADIUS = 3396.19
  B_AXIS_RADIUS = 3396.19
  C_AXIS_RADIUS = 3396.19
  FIRST_STANDARD_PARALLEL = N/A
  SECOND_STANDARD_PARALLEL = N/A
  POSITIVE_LONGITUDE_DIRECTION = EAST
  CENTER_LATITUDE = 0.0
  CENTER_LONGITUDE = 0.0
  REFERENCE_LATITUDE = N/A
  REFERENCE_LONGITUDE = N/A
  LINE_FIRST_PIXEL = 1
  LINE_LAST_PIXEL = 5040
  SAMPLE_FIRST_PIXEL = 1
  SAMPLE_LAST_PIXEL = 5322
  MAP_PROJECTION_ROTATION = 0.0
  MAP_RESOLUTION = 9879.11625388437
  MAP_SCALE = 6.0
  MAXIMUM_LATITUDE = 18.721194481872804
  MINIMUM_LATITUDE = 18.211027390963398
  EASTERNMOST_LONGITUDE = 77.69917761355299
  WESTERNMOST_LONGITUDE = 77.16046545922367
  LINE_PROJECTION_OFFSET = 184948.356698
  SAMPLE_PROJECTION_OFFSET = -762277.7084755
  COORDINATE_SYSTEM_TYPE = "BODY-FIXED ROTATING"
  COORDINATE_SYSTEM_NAME = PLANETOCENTRIC
  PROJECTION_LATITUDE_TYPE = PLANETOCENTRIC
END_OBJECT = IMAGE_MAP_PROJECTION
END
