Object = IsisCube
  Object = Core
    StartByte = 130014
    ^Core = F05_037684_1857_XN_05N224W_6m_ORTHO.tif
    Format = BandSequential
    Group = Dimensions
      Samples = 5777
      Lines = 16171
      Bands = 1
    End_Group
    Group = Pixels
      Type = UnsignedByte
      ByteOrder = Lsb
      Base = 0.0
      Multiplier = 1.0
    End_Group
  End_Object
  Group = Mapping
    TargetName = Mars
    EquatorialRadius = 3396190.0
    PolarRadius = 3396190.0
    LatitudeType = Planetocentric
    LongitudeDirection = PositiveEast
    LongitudeDomain = 180
    MinimumLatitude = 3.86061124177901238
    MinimumLongitude = 134.915188923703141
    MaximumLatitude = 5.51679758985719371
    MaximumLongitude = 135.506852304622555
    ProjectionName = Equirectangular
    CenterLongitude = 180.0
    CenterLatitude = 0.0
    CenterLatitudeRadius = 3396190.0
    UpperLeftCornerX = -2672388.5394429001
    UpperLeftCornerY = 327006.508436090022
    PixelResolution = 6.07074051230990008
    Scale = 9763.9978851200085
  End_Group
End_Object
Object = Label
  Bytes = 1280
End_Object
End
