PDS_VERSION_ID = PDS3
DD_VERSION_ID = PDSCAT1R100
LABEL_REVISION_NOTE = "2017-05-01, David P. Mayer (USGS), initial PDS3 label pointing to GeoTIFF;"
RECORD_TYPE = FIXED_LENGTH
RECORD_BYTES = 7583
TARGET_NAME = MARS
^IMAGE = ("F04_037262_1841_XN_04N224W_6m_ORTHO.tif", 211086 )
OBJECT = IMAGE
  LINES = 26305
  LINE_SAMPLES = 7583
  SAMPLE_BITS = 8
  SAMPLE_TYPE = LSB_UNSIGNED_INTEGER
  BANDS = 1
  BAND_STORAGE_TYPE = BAND_SEQUENTIAL
END_OBJECT = IMAGE
OBJECT = IMAGE_MAP_PROJECTION
  MAP_PROJECTION_TYPE = EQUIRECTANGULAR
  A_AXIS_RADIUS = 3396.19
  B_AXIS_RADIUS = 3396.19
  C_AXIS_RADIUS = 3396.19
  FIRST_STANDARD_PARALLEL = N/A
  SECOND_STANDARD_PARALLEL = N/A
  POSITIVE_LONGITUDE_DIRECTION = EAST
  CENTER_LATITUDE = 0.0
  CENTER_LONGITUDE = 180.0
  REFERENCE_LATITUDE = N/A
  REFERENCE_LONGITUDE = N/A
  LINE_FIRST_PIXEL = 1
  LINE_LAST_PIXEL = 26305
  SAMPLE_FIRST_PIXEL = 1
  SAMPLE_LAST_PIXEL = 7583
  MAP_PROJECTION_ROTATION = 0.0
  MAP_RESOLUTION = 9763.997885120009
  MAP_SCALE = 6.0707405123099
  MAXIMUM_LATITUDE = 5.391336685992505
  MINIMUM_LATITUDE = 2.6972558074941704
  EASTERNMOST_LONGITUDE = 136.05949478401357
  WESTERNMOST_LONGITUDE = 135.28286618482508
  LINE_PROJECTION_OFFSET = 52640.50000000075
  SAMPLE_PROJECTION_OFFSET = 436617.49999999604
  COORDINATE_SYSTEM_TYPE = "BODY-FIXED ROTATING"
  COORDINATE_SYSTEM_NAME = PLANETOCENTRIC
  PROJECTION_LATITUDE_TYPE = PLANETOCENTRIC
END_OBJECT = IMAGE_MAP_PROJECTION
END
