Object = IsisCube
  Object = Core
    StartByte = 211086
    ^Core = F04_037262_1841_XN_04N224W_6m_ORTHO.tif
    Format = BandSequential
    Group = Dimensions
      Samples = 7583
      Lines = 26305
      Bands = 1
    End_Group
    Group = Pixels
      Type = UnsignedByte
      ByteOrder = Lsb
      Base = 0.0
      Multiplier = 1.0
    End_Group
  End_Object
  Group = Mapping
    TargetName = Mars
    EquatorialRadius = 3396190.0
    PolarRadius = 3396190.0
    LatitudeType = Planetocentric
    LongitudeDirection = PositiveEast
    LongitudeDomain = 180
    MinimumLatitude = 2.69725580749417038
    MinimumLongitude = 135.282866184825082
    MaximumLatitude = 5.39133668599250537
    MaximumLongitude = 136.059494784013566
    ProjectionName = Equirectangular
    CenterLongitude = 180.0
    CenterLatitude = 0.0
    CenterLatitudeRadius = 3396190.0
    UpperLeftCornerX = -2650594.58100369992
    UpperLeftCornerY = 319569.851308509998
    PixelResolution = 6.07074051230990008
    Scale = 9763.9978851200085
  End_Group
End_Object
Object = Label
  Bytes = 1281
End_Object
End
