PDS_VERSION_ID = PDS3
DD_VERSION_ID = PDSCAT1R100
LABEL_REVISION_NOTE = "2017-05-01, David P. Mayer (USGS), initial PDS3 label pointing to GeoTIFF;"
RECORD_TYPE = FIXED_LENGTH
RECORD_BYTES = 9104
TARGET_NAME = MARS
^IMAGE = ("F02_036761_1828_F04_037262_1841_20m_DTM_destripe.tif", 63808 )
OBJECT = IMAGE
  LINES = 7892
  LINE_SAMPLES = 2276
  SAMPLE_BITS = 32
  SAMPLE_TYPE = IEEE_REAL
  BANDS = 1
  BAND_STORAGE_TYPE = BAND_SEQUENTIAL
END_OBJECT = IMAGE
OBJECT = IMAGE_MAP_PROJECTION
  MAP_PROJECTION_TYPE = EQUIRECTANGULAR
  A_AXIS_RADIUS = 3396.19
  B_AXIS_RADIUS = 3396.19
  C_AXIS_RADIUS = 3396.19
  FIRST_STANDARD_PARALLEL = N/A
  SECOND_STANDARD_PARALLEL = N/A
  POSITIVE_LONGITUDE_DIRECTION = EAST
  CENTER_LATITUDE = 0.0
  CENTER_LONGITUDE = 180.0
  REFERENCE_LATITUDE = N/A
  REFERENCE_LONGITUDE = N/A
  LINE_FIRST_PIXEL = 1
  LINE_LAST_PIXEL = 7892
  SAMPLE_FIRST_PIXEL = 1
  SAMPLE_LAST_PIXEL = 2276
  MAP_PROJECTION_ROTATION = 0.0
  MAP_RESOLUTION = 2929.1993655300193
  MAP_SCALE = 20.235801707741
  MAXIMUM_LATITUDE = 5.391575659153767
  MINIMUM_LATITUDE = 2.697324085542631
  EASTERNMOST_LONGITUDE = 136.0596654790301
  WESTERNMOST_LONGITUDE = 135.28266135060395
  LINE_PROJECTION_OFFSET = 15792.500000000315
  SAMPLE_PROJECTION_OFFSET = 130985.50000000183
  COORDINATE_SYSTEM_TYPE = "BODY-FIXED ROTATING"
  COORDINATE_SYSTEM_NAME = PLANETOCENTRIC
  PROJECTION_LATITUDE_TYPE = PLANETOCENTRIC
END_OBJECT = IMAGE_MAP_PROJECTION
END
