PDS_VERSION_ID = PDS3
DD_VERSION_ID = PDSCAT1R100
LABEL_REVISION_NOTE = "2017-05-01, David P. Mayer (USGS), initial PDS3 label pointing to GeoTIFF;"
RECORD_TYPE = FIXED_LENGTH
RECORD_BYTES = 9029
TARGET_NAME = MARS
^IMAGE = ("D20_034928_1864_XN_06N224W_6m_ORTHO.tif", 411974 )
OBJECT = IMAGE
  LINES = 51416
  LINE_SAMPLES = 9029
  SAMPLE_BITS = 8
  SAMPLE_TYPE = LSB_UNSIGNED_INTEGER
  BANDS = 1
  BAND_STORAGE_TYPE = BAND_SEQUENTIAL
END_OBJECT = IMAGE
OBJECT = IMAGE_MAP_PROJECTION
  MAP_PROJECTION_TYPE = EQUIRECTANGULAR
  A_AXIS_RADIUS = 3396.19
  B_AXIS_RADIUS = 3396.19
  C_AXIS_RADIUS = 3396.19
  FIRST_STANDARD_PARALLEL = N/A
  SECOND_STANDARD_PARALLEL = N/A
  POSITIVE_LONGITUDE_DIRECTION = EAST
  CENTER_LATITUDE = 0.0
  CENTER_LONGITUDE = 180.0
  REFERENCE_LATITUDE = N/A
  REFERENCE_LONGITUDE = N/A
  LINE_FIRST_PIXEL = 1
  LINE_LAST_PIXEL = 51416
  SAMPLE_FIRST_PIXEL = 1
  SAMPLE_LAST_PIXEL = 9029
  MAP_PROJECTION_ROTATION = 0.0
  MAP_RESOLUTION = 9763.997885120009
  MAP_SCALE = 6.0707405123099
  MAXIMUM_LATITUDE = 9.00368896371589
  MINIMUM_LATITUDE = 3.7378131815881437
  EASTERNMOST_LONGITUDE = 136.44099834882564
  WESTERNMOST_LONGITUDE = 135.51627467454466
  LINE_PROJECTION_OFFSET = 87911.50000000033
  SAMPLE_PROJECTION_OFFSET = 434338.500000005
  COORDINATE_SYSTEM_TYPE = "BODY-FIXED ROTATING"
  COORDINATE_SYSTEM_NAME = PLANETOCENTRIC
  PROJECTION_LATITUDE_TYPE = PLANETOCENTRIC
END_OBJECT = IMAGE_MAP_PROJECTION
END
