Object = IsisCube
  Object = Core
    StartByte = 124072
    ^Core = D19_034783_1864_D20_034928_1864_20m_DTM_destripe.tif
    Format = BandSequential
    Group = Dimensions
      Samples = 2709
      Lines = 15425
      Bands = 1
    End_Group
    Group = Pixels
      Type = Real
      ByteOrder = Lsb
      Base = 0.0
      Multiplier = 1.0
    End_Group
  End_Object
  Group = Mapping
    TargetName = Mars
    EquatorialRadius = 3396190.0
    PolarRadius = 3396190.0
    LatitudeType = Planetocentric
    LongitudeDirection = PositiveEast
    LongitudeDomain = 180
    MinimumLatitude = 3.7378814596386456
    MinimumLongitude = 135.516172257389371
    MaximumLatitude = 9.00382551982006696
    MaximumLongitude = 136.440998348736628
    ProjectionName = Equirectangular
    CenterLongitude = 180.0
    CenterLatitude = 0.0
    CenterLatitudeRadius = 3396190.0
    UpperLeftCornerX = -2636765.43412210001
    UpperLeftCornerY = 533699.034239960019
    PixelResolution = 20.2358017077410004
    Scale = 2929.19936553001935
  End_Group
End_Object
Object = Label
  Bytes = 1286
End_Object
End
