PDS_VERSION_ID = PDS3
DD_VERSION_ID = PDSCAT1R100
LABEL_REVISION_NOTE = "2017-05-01, David P. Mayer (USGS), initial PDS3 label pointing to GeoTIFF;"
RECORD_TYPE = FIXED_LENGTH
RECORD_BYTES = 5261
TARGET_NAME = MARS
^IMAGE = ("D18_034427_1842_XN_04N223W_6m_ORTHO.tif", 91982 )
OBJECT = IMAGE
  LINES = 11417
  LINE_SAMPLES = 5261
  SAMPLE_BITS = 8
  SAMPLE_TYPE = LSB_UNSIGNED_INTEGER
  BANDS = 1
  BAND_STORAGE_TYPE = BAND_SEQUENTIAL
END_OBJECT = IMAGE
OBJECT = IMAGE_MAP_PROJECTION
  MAP_PROJECTION_TYPE = EQUIRECTANGULAR
  A_AXIS_RADIUS = 3396.19
  B_AXIS_RADIUS = 3396.19
  C_AXIS_RADIUS = 3396.19
  FIRST_STANDARD_PARALLEL = N/A
  SECOND_STANDARD_PARALLEL = N/A
  POSITIVE_LONGITUDE_DIRECTION = EAST
  CENTER_LATITUDE = 0.0
  CENTER_LONGITUDE = 180.0
  REFERENCE_LATITUDE = N/A
  REFERENCE_LONGITUDE = N/A
  LINE_FIRST_PIXEL = 1
  LINE_LAST_PIXEL = 11417
  SAMPLE_FIRST_PIXEL = 1
  SAMPLE_LAST_PIXEL = 5261
  MAP_PROJECTION_ROTATION = 0.0
  MAP_RESOLUTION = 9763.997885120009
  MAP_SCALE = 6.0707405123099
  MAXIMUM_LATITUDE = 4.8865229756667015
  MINIMUM_LATITUDE = 3.7172273516478653
  EASTERNMOST_LONGITUDE = 136.9097612524911
  WESTERNMOST_LONGITUDE = 136.37094507679143
  LINE_PROJECTION_OFFSET = 47711.500000000015
  SAMPLE_PROJECTION_OFFSET = 425993.49999999284
  COORDINATE_SYSTEM_TYPE = "BODY-FIXED ROTATING"
  COORDINATE_SYSTEM_NAME = PLANETOCENTRIC
  PROJECTION_LATITUDE_TYPE = PLANETOCENTRIC
END_OBJECT = IMAGE_MAP_PROJECTION
END
