Object = IsisCube
  Object = Core
    StartByte = 28072
    ^Core = D18_034427_1842_D17_033939_1843_20m_DTM.tif
    Format = BandSequential
    Group = Dimensions
      Samples = 1579
      Lines = 3425
      Bands = 1
    End_Group
    Group = Pixels
      Type = Real
      ByteOrder = Lsb
      Base = 0.0
      Multiplier = 1.0
    End_Group
  End_Object
  Group = Mapping
    TargetName = Mars
    EquatorialRadius = 3396190.0
    PolarRadius = 3396190.0
    LatitudeType = Planetocentric
    LongitudeDirection = PositiveEast
    LongitudeDomain = 180
    MinimumLatitude = 3.71739804676284535
    MinimumLongitude = 136.370671964529748
    MaximumLatitude = 4.88665953176260981
    MaximumLongitude = 136.909727113380768
    ProjectionName = Equirectangular
    CenterLongitude = 180.0
    CenterLatitude = 0.0
    CenterLatitudeRadius = 3396190.0
    UpperLeftCornerX = -2586115.22244760022
    UpperLeftCornerY = 289655.265644609986
    PixelResolution = 20.2358017077410004
    Scale = 2929.19936553001935
  End_Group
End_Object
Object = Label
  Bytes = 1276
End_Object
End
