PDS_VERSION_ID = PDS3
DD_VERSION_ID = PDSCAT1R100
LABEL_REVISION_NOTE = "2017-05-01, David P. Mayer (USGS), initial PDS3 label pointing to GeoTIFF;"
RECORD_TYPE = FIXED_LENGTH
RECORD_BYTES = 4472
TARGET_NAME = MARS
^IMAGE = ("D18_034216_1845_XN_04N225W_6m_ORTHO.tif", 98830 )
OBJECT = IMAGE
  LINES = 12273
  LINE_SAMPLES = 4472
  SAMPLE_BITS = 8
  SAMPLE_TYPE = LSB_UNSIGNED_INTEGER
  BANDS = 1
  BAND_STORAGE_TYPE = BAND_SEQUENTIAL
END_OBJECT = IMAGE
OBJECT = IMAGE_MAP_PROJECTION
  MAP_PROJECTION_TYPE = EQUIRECTANGULAR
  A_AXIS_RADIUS = 3396.19
  B_AXIS_RADIUS = 3396.19
  C_AXIS_RADIUS = 3376.2
  FIRST_STANDARD_PARALLEL = N/A
  SECOND_STANDARD_PARALLEL = N/A
  POSITIVE_LONGITUDE_DIRECTION = EAST
  CENTER_LATITUDE = 0
  CENTER_LONGITUDE = 180
  REFERENCE_LATITUDE = N/A
  REFERENCE_LONGITUDE = N/A
  LINE_FIRST_PIXEL = 1
  LINE_LAST_PIXEL = 12273
  SAMPLE_FIRST_PIXEL = 1
  SAMPLE_LAST_PIXEL = 4472
  MAP_PROJECTION_ROTATION = 0.0
  MAP_RESOLUTION = 9763.99788425
  MAP_SCALE = 6.0707405128508
  MAXIMUM_LATITUDE = 4.8752991406117
  MINIMUM_LATITUDE = 3.6183471394769
  EASTERNMOST_LONGITUDE = 135.04445211
  WESTERNMOST_LONGITUDE = 134.58652744
  LINE_PROJECTION_OFFSET = 47602.50000000055
  SAMPLE_PROJECTION_OFFSET = 443417.50000000396
  COORDINATE_SYSTEM_TYPE = "BODY-FIXED ROTATING"
  COORDINATE_SYSTEM_NAME = PLANETOCENTRIC
  PROJECTION_LATITUDE_TYPE = PLANETOCENTRIC
END_OBJECT = IMAGE_MAP_PROJECTION
END
