Object = IsisCube
  Object = Core
    StartByte = 98830
    Format = BandSequential
    Group = Dimensions
      Samples = 4472
      Lines = 12273
      Bands = 1
    End_Group
    Group = Pixels
      Type = UnsignedByte
      ByteOrder = Lsb
      Base = 0.0
      Multiplier = 1.0
    End_Group
    ^Core = D18_034216_1845_XN_04N225W_6m_ORTHO.tif
  End_Object
  Group = Mapping
    ProjectionName = Equirectangular
    CenterLongitude = 180
    TargetName = Mars
    EquatorialRadius = 3396190
    PolarRadius = 3376200
    LatitudeType = Planetocentric
    LongitudeDirection = PositiveEast
    LongitudeDomain = 360
    MinimumLatitude = 3.61834713947689979
    MaximumLatitude = 4.87529914061170011
    MinimumLongitude = 134.586527439999998
    MaximumLongitude = 135.044452110000009
    UpperLeftCornerX = -2691875.61672729999
    UpperLeftCornerY = 288985.46063324
    PixelResolution = 6.07074051285079985
    Scale = 9763.99788425000042
    CenterLatitude = 0
  End_Group
  Group = AlphaCube
    AlphaSamples = 4513
    AlphaLines = 12417
    AlphaStartingSample = 0.5
    AlphaStartingLine = 0.5
    AlphaEndingSample = 4513.5
    AlphaEndingLine = 12417.5
    BetaSamples = 4460
    BetaLines = 12417
  End_Group
End_Object
Object = Label
  Bytes = 1502
End_Object
End
