Object = IsisCube
  Object = Core
    StartByte = 162086
    ^Core = D18_034150_1838_XN_03N222W_6m_ORTHO.tif
    Format = BandSequential
    Group = Dimensions
      Samples = 6282
      Lines = 20180
      Bands = 1
    End_Group
    Group = Pixels
      Type = UnsignedByte
      ByteOrder = Lsb
      Base = 0.0
      Multiplier = 1.0
    End_Group
  End_Object
  Group = Mapping
    TargetName = Mars
    EquatorialRadius = 3396190.0
    PolarRadius = 3396190.0
    LatitudeType = Planetocentric
    LongitudeDirection = PositiveEast
    LongitudeDomain = 180
    MinimumLatitude = 2.76372448252256131
    MinimumLongitude = 137.052837887601783
    MaximumLatitude = 4.83050084188163442
    MaximumLongitude = 137.696221886090058
    ProjectionName = Equirectangular
    CenterLongitude = 180.0
    CenterLatitude = 0.0
    CenterLatitudeRadius = 3396190.0
    UpperLeftCornerX = -2545680.04369679978
    UpperLeftCornerY = 286326.476288610022
    PixelResolution = 6.07074051285079985
    Scale = 9763.99788425004044
  End_Group
End_Object
Object = Label
  Bytes = 1282
End_Object
End
