PDS_VERSION_ID = PDS3
DD_VERSION_ID = PDSCAT1R100
LABEL_REVISION_NOTE = "2017-05-01, David P. Mayer (USGS), initial PDS3 label pointing to GeoTIFF;"
RECORD_TYPE = FIXED_LENGTH
RECORD_BYTES = 7540
TARGET_NAME = MARS
^IMAGE = ("D18_034150_1838_D17_033728_1838_20m_DTM_destripe.tif", 49104 )
OBJECT = IMAGE
  LINES = 6054
  LINE_SAMPLES = 1885
  SAMPLE_BITS = 32
  SAMPLE_TYPE = IEEE_REAL
  BANDS = 1
  BAND_STORAGE_TYPE = BAND_SEQUENTIAL
END_OBJECT = IMAGE
OBJECT = IMAGE_MAP_PROJECTION
  MAP_PROJECTION_TYPE = EQUIRECTANGULAR
  A_AXIS_RADIUS = 3396.19
  B_AXIS_RADIUS = 3396.19
  C_AXIS_RADIUS = 3396.19
  FIRST_STANDARD_PARALLEL = N/A
  SECOND_STANDARD_PARALLEL = N/A
  POSITIVE_LONGITUDE_DIRECTION = EAST
  CENTER_LATITUDE = 0.0
  CENTER_LONGITUDE = 180.0
  REFERENCE_LATITUDE = N/A
  REFERENCE_LONGITUDE = N/A
  LINE_FIRST_PIXEL = 1
  LINE_LAST_PIXEL = 6054
  SAMPLE_FIRST_PIXEL = 1
  SAMPLE_LAST_PIXEL = 1885
  MAP_PROJECTION_ROTATION = 0.0
  MAP_RESOLUTION = 2929.199365270042
  MAP_SCALE = 20.235801709537
  MAXIMUM_LATITUDE = 4.8306715369971345
  MINIMUM_LATITUDE = 2.7638951776345544
  EASTERNMOST_LONGITUDE = 137.69629016406054
  WESTERNMOST_LONGITUDE = 137.05276960948535
  LINE_PROJECTION_OFFSET = 14149.500000000071
  SAMPLE_PROJECTION_OFFSET = 125800.50000000176
  COORDINATE_SYSTEM_TYPE = "BODY-FIXED ROTATING"
  COORDINATE_SYSTEM_NAME = PLANETOCENTRIC
  PROJECTION_LATITUDE_TYPE = PLANETOCENTRIC
END_OBJECT = IMAGE_MAP_PROJECTION
END
