Object = IsisCube
  Object = Core
    StartByte = 411974
    ^Core = D19_034783_1864_XN_06N224W_6m_ORTHO.tif
    Format = BandSequential
    Group = Dimensions
      Samples = 9029
      Lines = 51416
      Bands = 1
    End_Group
    Group = Pixels
      Type = UnsignedByte
      ByteOrder = Lsb
      Base = 0.0
      Multiplier = 1.0
    End_Group
  End_Object
  Group = Mapping
    TargetName = Mars
    EquatorialRadius = 3396190.0
    PolarRadius = 3396190.0
    LatitudeType = Planetocentric
    LongitudeDirection = PositiveEast
    LongitudeDomain = 180
    MinimumLatitude = 3.73781318158814369
    MinimumLongitude = 135.516274674544661
    MaximumLatitude = 9.00368896371588967
    MaximumLongitude = 136.440998348825644
    ProjectionName = Equirectangular
    CenterLongitude = 180.0
    CenterLatitude = 0.0
    CenterLatitudeRadius = 3396190.0
    UpperLeftCornerX = -2636759.3633762002
    UpperLeftCornerY = 533690.939918190008
    PixelResolution = 6.07074051230990008
    Scale = 9763.9978851200085
  End_Group
End_Object
Object = Label
  Bytes = 1280
End_Object
End
