Object = IsisCube
  Object = Core
    StartByte = 2086
    Format = BandSequential
    Group = Dimensions
      Samples = 807
      Lines = 1808
      Bands = 1
    End_Group
    Group = Pixels
      Type = UnsignedByte
      ByteOrder = Lsb
      Base = 0.0
      Multiplier = 1.0
    End_Group
    ^Core = TvashtarPaterae_9426r_Ortho_319m.tif
  End_Object
  Group = Mapping
    TargetName = Io
    EquatorialRadius = 1821460.0
    PolarRadius = 1821460.0
    LatitudeType = Planetocentric
    LongitudeDirection = PositiveEast
    LongitudeDomain = 180
    MinimumLatitude = 55.6203719739835165
    MinimumLongitude = -128.594154970001057
    MaximumLatitude = 73.7626619100009862
    MaximumLongitude = -110.271543044347212
    ProjectionName = Equirectangular
    CenterLongitude = 0.0
    CenterLatitude = 63.7712000000000003
    CenterLatitudeRadius = 1821460.0
    UpperLeftCornerX = -1806750.0000463
    UpperLeftCornerY = 2344949.99988459982
    PixelResolution = 319.00000001090001
    Scale = 99.6566589099989244
  End_Group
End_Object
Object = Label
  Bytes = 1284
End_Object
End
