Object = IsisCube
  Object = Core
    StartByte = 19473
    Format = BandSequential
    Group = Dimensions
      Samples = 5772
      Lines = 2357
      Bands = 1
    End_Group
    Group = Pixels
      Type = UnsignedByte
      ByteOrder = Lsb
      Base = 0.0
      Multiplier = 1.0
    End_Group
    ^Core = Enceladus_Voyager_airbrush_sinu_273m.tif
  End_Object
  Group = Instrument
    TargetName = Enceladus
  End_Group
  Group = BandBin
    Center = 0.0
    OriginalBand = 1
  End_Group
  Group = Mapping
    ProjectionName = Sinusoidal
    CenterLongitude = -90.0
    TargetName = Enceladus
    EquatorialRadius = 251000.0
    PolarRadius = 251000.0
    LatitudeType = Planetocentric
    LongitudeDirection = PositiveWest
    LongitudeDomain = 180
    MinimumLatitude = -57.0
    MaximumLatitude = 90.0
    MinimumLongitude = -180.0
    MaximumLongitude = 180.0
    UpperLeftCornerX = -1182814.38866199995
    UpperLeftCornerY = 394271.462887000002
    PixelResolution = 273.252022000000011
    Scale = 16.032
  End_Group
End_Object
Object = Label
  Bytes = 1605
End_Object
Object = History
  Name = IsisCube
  StartByte = 1
  Bytes = 1086
  ^History = Enceladus_Voyager_airbrush_sinu_273m.History.IsisCube
End_Object
Object = OriginalLabel
  Name = IsisCube
  StartByte = 1
  Bytes = 2409
  ^OriginalLabel = Enceladus_Voyager_airbrush_sinu_273m.OriginalLabel.IsisCube
End_Object
End
