Object = IsisCube
  Object = Core
    Group = Dimensions
      Samples = 15840
      Lines = 7920
      Bands = 1
    End_Group
    Group = Pixels
      Type = UnsignedByte
      ByteOrder = Lsb
      Base = 0.0
      Multiplier = 1.0
    End_Group
    StartByte = 64018
    ^Core = Enceladus_Cassini_ISS_Global_Mosaic_100m_HPF.tif
    Format = BandSequential
  End_Object
  Group = BandBin
    FilterName = CL1/CL2
    OriginalBand = 1
    Center = 651.065000000000055
    Width = 340.923000000000002
  End_Group
  Group = Mapping
    ProjectionName = EQUIRECTANGULAR
    CenterLongitude = 180.0
    TargetName = Enceladus
    EquatorialRadius = 252100.0
    PolarRadius = 252100.0
    LatitudeType = Planetocentric
    LongitudeDirection = PositiveEast
    LongitudeDomain = 360
    MinimumLatitude = -90.0
    MaximumLatitude = 90.0
    MinimumLongitude = 0.0
    MaximumLongitude = 360.0
    UpperLeftCornerX = -792000.0
    UpperLeftCornerY = 396000.0
    PixelResolution = 100.0
    Scale = 43.9997504427769996
    CenterLatitude = 0.0
    CenterLatitudeRadius = 252100.0
  End_Group
End_Object
Object = Label
  Bytes = 1353
End_Object
End
