PDS_VERSION_ID = PDS3
DD_VERSION_ID = PDSCAT1R100
LABEL_REVISION_NOTE = "2017-05-01, David P. Mayer (USGS), initial PDS3 label pointing to GeoTIFF;"
RECORD_TYPE = FIXED_LENGTH
DATA_SET_ID = Ceres_Dawn_FC_DLR_global_20ppd_Oct2015
PRODUCER_ID = "DAWN TEAM"
PRODUCER_FULL_NAME = "THOMAS ROATSCH"
PRODUCER_INSTITUTION_NAME = "GERMAN AEROSPACE CENTER (DLR)"
PRODUCT_ID = Ceres_Dawn_FC_DLR_global
INSTRUMENT_HOST_NAME = DAWN
INSTRUMENT_NAME = "FRAMING CAMERA"
INSTRUMENT_ID = FC
RECORD_BYTES = 7383
TARGET_NAME = CERES
^IMAGE = ("Ceres_Dawn_FC_DLR_global_20ppd_Oct2015.tif", 30178 )
OBJECT = IMAGE
  LINES = 3691
  LINE_SAMPLES = 7383
  SAMPLE_BITS = 8
  SAMPLE_TYPE = LSB_UNSIGNED_INTEGER
  BANDS = 1
  BAND_STORAGE_TYPE = BAND_SEQUENTIAL
END_OBJECT = IMAGE
OBJECT = IMAGE_MAP_PROJECTION
  MAP_PROJECTION_TYPE = EQUIRECTANGULAR
  A_AXIS_RADIUS = 470.0
  B_AXIS_RADIUS = 470.0
  C_AXIS_RADIUS = 470.0
  FIRST_STANDARD_PARALLEL = N/A
  SECOND_STANDARD_PARALLEL = N/A
  POSITIVE_LONGITUDE_DIRECTION = EAST
  CENTER_LATITUDE = 0.0
  CENTER_LONGITUDE = 180.0
  REFERENCE_LATITUDE = N/A
  REFERENCE_LONGITUDE = N/A
  LINE_FIRST_PIXEL = 1
  LINE_LAST_PIXEL = 3691
  SAMPLE_FIRST_PIXEL = 1
  SAMPLE_LAST_PIXEL = 7383
  MAP_PROJECTION_ROTATION = 0.0
  MAP_RESOLUTION = 20.5076
  MAP_SCALE = 400.0
  MAXIMUM_LATITUDE = 90.0
  MINIMUM_LATITUDE = -90.0
  EASTERNMOST_LONGITUDE = 360.0
  WESTERNMOST_LONGITUDE = 0.0
  LINE_PROJECTION_OFFSET = 1845.0
  SAMPLE_PROJECTION_OFFSET = 3691.0
  COORDINATE_SYSTEM_TYPE = "BODY-FIXED ROTATING"
  COORDINATE_SYSTEM_NAME = PLANETOCENTRIC
  PROJECTION_LATITUDE_TYPE = PLANETOCENTRIC
END_OBJECT = IMAGE_MAP_PROJECTION
END
