Object = IsisCube
  Object = Core
    StartByte = 30178
    Format = BandSequential
    Group = Dimensions
      Samples = 7383
      Lines = 3691
      Bands = 1
    End_Group
    Group = Pixels
      Type = UnsignedByte
      ByteOrder = Lsb
      Base = 0.0
      Multiplier = 1.0
    End_Group
    ^Core = Ceres_Dawn_FC_DLR_global_20ppd_Oct2015.tif
  End_Object
  Group = Archive
    DataSetId = Ceres_Dawn_FC_DLR_global_20ppd_Oct2015
    ProducerInstitutionName = "German Aerospace Center (DLR)"
    ProducerId = "Dawn Team"
    ProducerFullName = "Thomas Roatsch"
    ProductId = Ceres_Dawn_FC_DLR_global
    ProductVersionId = "October 2015"
    InstrumentHostName = Dawn
    InstrumentName = "Framing Camera"
    InstrumentId = FC
    TargetName = CERES
  End_Group
  Group = Mapping
    ProjectionName = Equirectangular
    CenterLongitude = 180.0
    TargetName = CERES
    EquatorialRadius = 470000.0
    PolarRadius = 470000.0
    LatitudeType = Planetocentric
    LongitudeDirection = PositiveEast
    LongitudeDomain = 180
    MinimumLatitude = -90.0
    MaximumLatitude = 90.0
    MinimumLongitude = 0.0
    MaximumLongitude = 360.0
    UpperLeftCornerX = -1476600.0
    UpperLeftCornerY = 738200.0
    PixelResolution = 400.0
    Scale = 20.5076000000000001
    CenterLatitude = 0.0
  End_Group
End_Object
Object = Label
  Bytes = 1791
End_Object
Object = History
  Name = IsisCube
  StartByte = 1
  Bytes = 912
  ^History = Ceres_Dawn_FC_DLR_global_20ppd_Oct2015.History.IsisCube
End_Object
End
