PDS_VERSION_ID = PDS3
DD_VERSION_ID = PDSCAT1R100
LABEL_REVISION_NOTE = "2017-05-01, David P. Mayer (USGS), initial PDS3 label pointing to GeoTIFF;"
RECORD_TYPE = FIXED_LENGTH
RECORD_BYTES = 15138
TARGET_NAME = CALLISTO
^IMAGE = ("Callisto_Voyager_GalileoSSI_global_mosaic_1km.tif", 61196 )
OBJECT = IMAGE
  LINES = 7569
  LINE_SAMPLES = 15138
  SAMPLE_BITS = 8
  SAMPLE_TYPE = LSB_UNSIGNED_INTEGER
  BANDS = 1
  BAND_STORAGE_TYPE = BAND_SEQUENTIAL
  SCALING_FACTOR = 1.0
  OFFSET = 0.0
END_OBJECT = IMAGE
OBJECT = IMAGE_MAP_PROJECTION
  MAP_PROJECTION_TYPE = SIMPLE_CYLINDRICAL
  A_AXIS_RADIUS = 2409.3000488
  B_AXIS_RADIUS = 2409.3000488
  C_AXIS_RADIUS = 2409.3000488
  FIRST_STANDARD_PARALLEL = N/A
  SECOND_STANDARD_PARALLEL = N/A
  POSITIVE_LONGITUDE_DIRECTION = WEST
  CENTER_LATITUDE = N/A
  CENTER_LONGITUDE = 180.0
  REFERENCE_LATITUDE = N/A
  REFERENCE_LONGITUDE = N/A
  LINE_FIRST_PIXEL = 1
  LINE_LAST_PIXEL = 7569
  SAMPLE_FIRST_PIXEL = 1
  SAMPLE_LAST_PIXEL = 15138
  MAP_PROJECTION_ROTATION = 0.0
  MAP_RESOLUTION = 42.05
  MAP_SCALE = 1000.0051966711
  MAXIMUM_LATITUDE = 90.0
  MINIMUM_LATITUDE = -90.0
  EASTERNMOST_LONGITUDE = 0.0
  WESTERNMOST_LONGITUDE = 360.0
  LINE_PROJECTION_OFFSET = 3784.0000000000223
  SAMPLE_PROJECTION_OFFSET = -7569.500000000045
  COORDINATE_SYSTEM_TYPE = "BODY-FIXED ROTATING"
  COORDINATE_SYSTEM_NAME = PLANETOCENTRIC
  PROJECTION_LATITUDE_TYPE = PLANETOCENTRIC
END_OBJECT = IMAGE_MAP_PROJECTION
END
