Object = IsisCube
  Object = Core
    StartByte = 75754
    Format = BandSequential
    Group = Dimensions
      Samples = 18775
      Lines = 9388
      Bands = 1
    End_Group
    Group = Pixels
      Type = UnsignedByte
      ByteOrder = Lsb
      Base = 0.0
      Multiplier = 1.0
    End_Group
    ^Core = Venus_Magellan_C3-MDIR_Global_Mosaic_2025m.tif
  End_Object
  Group = Archive
    DataSetId = Magellan_C3-Midr_mosaic_2025m
    ProducerInstitutionName = "UNITED STATES GEOLOGICAL SURVEY"
    ProducerId = Astrogeology
    ProducerFullName = USGS
    InstrumentName = "RADAR SYSTEM"
    InstrumentId = SAR
    TargetName = Venus
  End_Group
  Group = Mapping
    ProjectionName = Equirectangular
    CenterLongitude = 0.0
    TargetName = Venus
    EquatorialRadius = 6051000.0
    PolarRadius = 6051000.0
    LatitudeType = Planetocentric
    LongitudeDirection = PositiveEast
    LongitudeDomain = 180
    MinimumLatitude = -90.0
    MaximumLatitude = 90.0
    MinimumLongitude = -180.0
    MaximumLongitude = 180.0
    UpperLeftCornerX = -19009777.1468719989
    UpperLeftCornerY = 9504888.57343599945
    PixelResolution = 2025.0
    Scale = 52.1529999999999987
    CenterLatitude = 0.0
  End_Group
End_Object
Object = Label
  Bytes = 1671
End_Object
Object = History
  Name = IsisCube
  StartByte = 1
  Bytes = 924
  ^History = Venus_Magellan_C3-MDIR_Global_Mosaic_2025m.History.IsisCube
End_Object
End
