Object = IsisCube
  Object = Core
    StartByte = 69782
    Format = BandSequential
    Group = Dimensions
      Samples = 5761
      Lines = 2880
      Bands = 3
    End_Group
    Group = Pixels
      Type = UnsignedByte
      ByteOrder = Lsb
      Base = 0.0
      Multiplier = 1.0
    End_Group
    ^Core = Venus_Magellan_C3-MDIR_ClrTopo_Global_Mosaic_6600m.tif
  End_Object
  Group = Archive
    DataSetId = Magellan_colorizeTopography_simp0_6600m
    ProducerInstitutionName = "Astrogeology Science Center"
    ProducerId = Astrogeology
    ProducerFullName = "UNITED STATES GEOLOGICAL SURVEY"
    ProductId = "GTDR and C3-MIDR"
    InstrumentName = "RADAR SYSTEM"
    InstrumentId = SAR
    TargetName = Venus
  End_Group
  Group = Mapping
    ProjectionName = Equirectangular
    CenterLongitude = 0.0
    TargetName = Venus
    EquatorialRadius = 6051000.0
    PolarRadius = 6051000.0
    LatitudeType = Planetocentric
    LongitudeDirection = PositiveEast
    LongitudeDomain = 180
    MinimumLatitude = -90.0
    MaximumLatitude = 90.0
    MinimumLongitude = -180.0
    MaximumLongitude = 180.0
    UpperLeftCornerX = -19009777.1468719989
    UpperLeftCornerY = 9504888.57343599945
    PixelResolution = 6600.0
    Scale = 16.0015000000000001
    CenterLatitude = 0.0
  End_Group
End_Object
Object = Label
  Bytes = 1786
End_Object
Object = History
  Name = IsisCube
  StartByte = 1
  Bytes = 948
  ^History = Venus_Magellan_C3-MDIR_ClrTopo_Global_Mosaic_6600m.History.IsisC- ube
End_Object
End
