Object = IsisCube
  Object = Core
    StartByte = 33610
    Format = BandSequential
    Group = Dimensions
      Samples = 8193
      Lines = 4097
      Bands = 1
    End_Group
    Group = Pixels
      Type = UnsignedByte
      ByteOrder = Lsb
      Base = -0.100000000000000006
      Multiplier = 0.0050000000000000001
    End_Group
    ^Core = Venus_Magellan_MeterScaleSlope_Global_4641m.tif
  End_Object
  Group = Archive
    DataSetId = MGN-V-GXDR-5-DIM-V1.0
    ProducerInstitutionName = "UNITED STATES GEOLOGICAL SURVEY"
    ProductId = SA00N000
    InstrumentName = "RADAR SYSTEM"
    InstrumentId = RAD
    TargetName = VENUS
  End_Group
  Group = Mapping
    ProjectionName = SimpleCylindrical
    CenterLongitude = 0.0
    TargetName = Venus
    EquatorialRadius = 6051000.0
    PolarRadius = 6051000.0
    LatitudeType = Planetocentric
    LongitudeDirection = PositiveEast
    LongitudeDomain = 180
    MinimumLatitude = -90.0
    MaximumLatitude = 90.0
    MinimumLongitude = -180.0
    MaximumLongitude = 180.0
    UpperLeftCornerX = -19014417.9035999998
    UpperLeftCornerY = 9509529.48120000027
    PixelResolution = 4641.05879999999979
    Scale = 22.7555559999999986
  End_Group
End_Object
Object = Label
  Bytes = 1864
End_Object
Object = History
  Name = IsisCube
  StartByte = 1
  Bytes = 1680
  ^History = Venus_Magellan_MeterScaleSlope_Global_4641m.History.IsisCube
End_Object
Object = OriginalLabel
  Name = IsisCube
  StartByte = 1
  Bytes = 2823
  ^OriginalLabel = Venus_Magellan_MeterScaleSlope_Global_4641m.OriginalLabel.I- sisCube
End_Object
End
