PDS_VERSION_ID = PDS3
DD_VERSION_ID = PDSCAT1R100
LABEL_REVISION_NOTE = "2017-05-01, David P. Mayer (USGS), initial PDS3 label pointing to GeoTIFF;"
RECORD_TYPE = FIXED_LENGTH
RECORD_BYTES = 143812
TARGET_NAME = TITAN
^IMAGE = ("Titan_ISS_Globe_65Sto45N_450M_AvgMos.tif", 88572 )
OBJECT = IMAGE
  LINES = 10987
  LINE_SAMPLES = 35953
  SAMPLE_BITS = 32
  SAMPLE_TYPE = IEEE_REAL
  BANDS = 1
  BAND_STORAGE_TYPE = BAND_SEQUENTIAL
END_OBJECT = IMAGE
OBJECT = IMAGE_MAP_PROJECTION
  MAP_PROJECTION_TYPE = EQUIRECTANGULAR
  A_AXIS_RADIUS = 2575.0
  B_AXIS_RADIUS = 2575.0
  C_AXIS_RADIUS = 2575.0
  FIRST_STANDARD_PARALLEL = N/A
  SECOND_STANDARD_PARALLEL = N/A
  POSITIVE_LONGITUDE_DIRECTION = WEST
  CENTER_LATITUDE = -0.436633
  CENTER_LONGITUDE = 180.0
  REFERENCE_LATITUDE = N/A
  REFERENCE_LONGITUDE = N/A
  LINE_FIRST_PIXEL = 1
  LINE_LAST_PIXEL = 10987
  SAMPLE_FIRST_PIXEL = 1
  SAMPLE_LAST_PIXEL = 35953
  MAP_PROJECTION_ROTATION = 0.0
  MAP_RESOLUTION = 99.871618
  MAP_SCALE = 450.0
  MAXIMUM_LATITUDE = 45.0
  MINIMUM_LATITUDE = -65.0
  EASTERNMOST_LONGITUDE = 0.0
  WESTERNMOST_LONGITUDE = 360.0
  LINE_PROJECTION_OFFSET = 4494.5
  SAMPLE_PROJECTION_OFFSET = -17977.5
  COORDINATE_SYSTEM_TYPE = "BODY-FIXED ROTATING"
  COORDINATE_SYSTEM_NAME = PLANETOCENTRIC
  PROJECTION_LATITUDE_TYPE = PLANETOCENTRIC
END_OBJECT = IMAGE_MAP_PROJECTION
END
