PDS_VERSION_ID = PDS3
DD_VERSION_ID = PDSCAT1R100
LABEL_REVISION_NOTE = "2017-05-01, David P. Mayer (USGS), initial PDS3 label pointing to GeoTIFF;"
RECORD_TYPE = FIXED_LENGTH
DATA_SET_ID = VG1/VG2-R-SSI-5-MDIM-V1.0
PRODUCER_INSTITUTION_NAME = "UNITED STATES GEOLOGICAL SURVEY"
PRODUCT_ID = RMA00N000
INSTRUMENT_NAME = N/A
INSTRUMENT_ID = N/A
RECORD_BYTES = 11522
TARGET_NAME = RHEA
^IMAGE = ("Rhea_Voyager_mosaic_global_833m.tif", 23652 )
OBJECT = IMAGE
  LINES = 2881
  LINE_SAMPLES = 5761
  SAMPLE_BITS = 16
  SAMPLE_TYPE = LSB_INTEGER
  BANDS = 1
  BAND_STORAGE_TYPE = BAND_SEQUENTIAL
END_OBJECT = IMAGE
OBJECT = IMAGE_MAP_PROJECTION
  MAP_PROJECTION_TYPE = SINUSOIDAL
  A_AXIS_RADIUS = 764.0
  B_AXIS_RADIUS = 764.0
  C_AXIS_RADIUS = 764.0
  FIRST_STANDARD_PARALLEL = N/A
  SECOND_STANDARD_PARALLEL = N/A
  POSITIVE_LONGITUDE_DIRECTION = WEST
  CENTER_LATITUDE = N/A
  CENTER_LONGITUDE = 0.0
  REFERENCE_LATITUDE = N/A
  REFERENCE_LONGITUDE = N/A
  LINE_FIRST_PIXEL = 1
  LINE_LAST_PIXEL = 2881
  SAMPLE_FIRST_PIXEL = 1
  SAMPLE_LAST_PIXEL = 5761
  MAP_PROJECTION_ROTATION = 0.0
  MAP_RESOLUTION = 16.0
  MAP_SCALE = 833.3947
  MAXIMUM_LATITUDE = 90.0
  MINIMUM_LATITUDE = -90.0
  EASTERNMOST_LONGITUDE = -180.0
  WESTERNMOST_LONGITUDE = 180.0
  LINE_PROJECTION_OFFSET = 1440.0000000000002
  SAMPLE_PROJECTION_OFFSET = -2881.0000000000005
  COORDINATE_SYSTEM_TYPE = "BODY-FIXED ROTATING"
  COORDINATE_SYSTEM_NAME = PLANETOCENTRIC
  PROJECTION_LATITUDE_TYPE = PLANETOCENTRIC
END_OBJECT = IMAGE_MAP_PROJECTION
END
