Object = IsisCube
  Object = Core
    StartByte = 23652
    Format = BandSequential
    Group = Dimensions
      Samples = 5761
      Lines = 2881
      Bands = 1
    End_Group
    Group = Pixels
      Type = SignedWord
      ByteOrder = Lsb
      Base = 0.0
      Multiplier = 1.0
    End_Group
    ^Core = Rhea_Voyager_mosaic_global_833m.tif
  End_Object
  Group = Archive
    DataSetId = VG1/VG2-R-SSI-5-MDIM-V1.0
    ProducerInstitutionName = "UNITED STATES GEOLOGICAL SURVEY"
    ProductId = RMA00N000
    InstrumentName = N/A
    InstrumentId = N/A
    TargetName = RHEA
  End_Group
  Group = Mapping
    ProjectionName = Sinusoidal
    CenterLongitude = 0.0
    TargetName = Rhea
    EquatorialRadius = 764000.0
    PolarRadius = 764000.0
    LatitudeType = Planetocentric
    LongitudeDirection = PositiveWest
    LongitudeDomain = 180
    MinimumLatitude = -90.0
    MaximumLatitude = 90.0
    MinimumLongitude = -180.0
    MaximumLongitude = 180.0
    UpperLeftCornerX = -2400593.43335000006
    UpperLeftCornerY = 1200505.06535000005
    PixelResolution = 833.394699999999943
    Scale = 16.0
  End_Group
End_Object
Object = Label
  Bytes = 1737
End_Object
Object = History
  Name = IsisCube
  StartByte = 1
  Bytes = 1100
  ^History = Rhea_Voyager_mosaic_global_833m.History.IsisCube
End_Object
Object = OriginalLabel
  Name = IsisCube
  StartByte = 1
  Bytes = 2748
  ^OriginalLabel = Rhea_Voyager_mosaic_global_833m.OriginalLabel.IsisCube
End_Object
End
