Object = IsisCube
  Object = Core
    StartByte = 1475350
    Format = BandSequential
    Group = Dimensions
      Samples = 184320
      Lines = 92160
      Bands = 1
    End_Group
    Group = Pixels
      Type = UnsignedByte
      ByteOrder = Lsb
      Base = 0.0
      Multiplier = 1.0
    End_Group
    ^Core = Lunar_LO_UVVISv2_Hybrid_Mosaic_Global_59m.tif
  End_Object
  Group = Mapping
    ProjectionName = SimpleCylindrical
    CenterLongitude = 0.0
    TargetName = Moon
    EquatorialRadius = 1737400.0
    PolarRadius = 1737400.0
    LatitudeType = Planetocentric
    LongitudeDirection = PositiveEast
    LongitudeDomain = 180
    MaximumLongitude = 180.0
    MinimumLongitude = -180.0
    MaximumLatitude = 90.0
    MinimumLatitude = -90.0
    UpperLeftCornerX = -5458203.07634699997
    UpperLeftCornerY = 2729101.53817299986
    PixelResolution = 59.2252939999999981
    Scale = 512.0
  End_Group
End_Object
Object = Label
  Bytes = 1168
End_Object
Object = History
  Name = IsisCube
  StartByte = 1
  Bytes = 2636
  ^History = Lunar_LO_UVVISv2_Hybrid_Mosaic_Global_59m.History.IsisCube
End_Object
End
