Object = IsisCube
  Object = Core
    StartByte = 767392
    Format = BandSequential
    Group = Dimensions
      Samples = 109165
      Lines = 47912
      Bands = 1
    End_Group
    Group = Pixels
      Type = SignedWord
      ByteOrder = Lsb
      Base = 0.0
      Multiplier = 1.0
    End_Group
    ^Core = Lunar_LRO_WAC_GLD100_DTM_79S79N_100m_v1.1.tif
  End_Object
  Group = Archive
    DataSetId = LRO-L-LROC-5-RDR-V1.0
    ProducerInstitutionName = "ARIZONA STATE UNIVERSITY"
    ProducerId = LRO_LROC_TEAM
    ProducerFullName = "MARK ROBINSON, PH.D"
    ProductId = WAC_GLD100_100M
    ProductVersionId = v1.1
    InstrumentHostName = "LUNAR RECONNAISSANCE ORBITER"
    InstrumentName = "LUNAR RECONNAISSANCE ORBITER CAMERA"
    InstrumentId = LROC
    TargetName = MOON
    MissionPhaseName = "NOMINAL MISSION, SCIENCE MISSION"
  End_Group
  Group = BandBin
    FilterName = NA
  End_Group
  Group = Mapping
    ProjectionName = Equirectangular
    CenterLongitude = 180.0
    TargetName = Moon
    EquatorialRadius = 1737400.0
    PolarRadius = 1737400.0
    LatitudeType = Planetocentric
    LongitudeDirection = PositiveEast
    LongitudeDomain = 360
    MinimumLatitude = -79.0
    MaximumLatitude = 79.0
    MinimumLongitude = 0.0
    MaximumLongitude = 360.0
    UpperLeftCornerX = -5458203.07634699997
    UpperLeftCornerY = 2395600.0
    PixelResolution = 100.0
    Scale = 303.23399999999998
    CenterLatitude = 0.0
    CenterLatitudeRadius = 1737400.0
  End_Group
End_Object
Object = Label
  Bytes = 1995
End_Object
Object = History
  Name = IsisCube
  StartByte = 1
  Bytes = 2687
  ^History = Lunar_LRO_WAC_GLD100_DTM_79S79N_100m_v1.1.History.IsisCube
End_Object
End
