PDS_VERSION_ID = PDS3
DD_VERSION_ID = PDSCAT1R100
LABEL_REVISION_NOTE = "2017-05-01, David P. Mayer (USGS), initial PDS3 label pointing to GeoTIFF;"
RECORD_TYPE = FIXED_LENGTH
DATA_SET_ID = LRO-L-LROC-5-RDR-V1.0
PRODUCER_ID = LRO_LROC_TEAM
PRODUCER_FULL_NAME = ASTROGEOLOGY
PRODUCER_INSTITUTION_NAME = "ARIZONA STATE UNIVERSITY"
PRODUCT_ID = WAC_GLD100_SHADE_100M
INSTRUMENT_HOST_NAME = "LUNAR RECONNAISSANCE ORBITER"
INSTRUMENT_NAME = "LUNAR RECONNAISSANCE ORBITER CAMERA"
INSTRUMENT_ID = LROC
RECORD_BYTES = 92160
TARGET_NAME = MOON
^IMAGE = ("Lunar_LROC_WAC_GLD100_ClrShade_79s79n_118m_v1_1.tif", 1942304 )
OBJECT = IMAGE
  LINES = 40448
  LINE_SAMPLES = 92160
  SAMPLE_BITS = 8
  SAMPLE_TYPE = LSB_UNSIGNED_INTEGER
  BANDS = 3
  BAND_STORAGE_TYPE = BAND_SEQUENTIAL
END_OBJECT = IMAGE
OBJECT = IMAGE_MAP_PROJECTION
  MAP_PROJECTION_TYPE = EQUIRECTANGULAR
  A_AXIS_RADIUS = 1737.4
  B_AXIS_RADIUS = 1737.4
  C_AXIS_RADIUS = 1737.4
  FIRST_STANDARD_PARALLEL = N/A
  SECOND_STANDARD_PARALLEL = N/A
  POSITIVE_LONGITUDE_DIRECTION = EAST
  CENTER_LATITUDE = 0.0
  CENTER_LONGITUDE = 0.0
  REFERENCE_LATITUDE = N/A
  REFERENCE_LONGITUDE = N/A
  LINE_FIRST_PIXEL = 1
  LINE_LAST_PIXEL = 40448
  SAMPLE_FIRST_PIXEL = 1
  SAMPLE_LAST_PIXEL = 92160
  MAP_PROJECTION_ROTATION = 0.0
  MAP_RESOLUTION = 256.0
  MAP_SCALE = 118.450588
  MAXIMUM_LATITUDE = 79.0
  MINIMUM_LATITUDE = -79.0
  EASTERNMOST_LONGITUDE = 180.0
  WESTERNMOST_LONGITUDE = -180.0
  LINE_PROJECTION_OFFSET = 20223.49993073905
  SAMPLE_PROJECTION_OFFSET = 46079.49984218736
  COORDINATE_SYSTEM_TYPE = "BODY-FIXED ROTATING"
  COORDINATE_SYSTEM_NAME = PLANETOCENTRIC
  PROJECTION_LATITUDE_TYPE = PLANETOCENTRIC
END_OBJECT = IMAGE_MAP_PROJECTION
END
