Object = IsisCube
  Object = Core
    StartByte = 553608
    Format = BandSequential
    Group = Dimensions
      Samples = 46080
      Lines = 23040
      Bands = 3
    End_Group
    Group = Pixels
      Type = UnsignedByte
      ByteOrder = Lsb
      Base = 0.0
      Multiplier = 1.0
    End_Group
    ^Core = Lunar_LRO_LOLA_ClrShade_Global_128ppd_v04.tif
  End_Object
  Group = Mapping
    ProjectionName = SimpleCylindrical
    CenterLongitude = 0.0
    TargetName = Moon
    EquatorialRadius = 1737400.0
    PolarRadius = 1737400.0
    LatitudeType = Planetocentric
    LongitudeDirection = PositiveEast
    LongitudeDomain = 180
    MaximumLongitude = 180.0
    MinimumLongitude = -180.0
    MaximumLatitude = 90.0
    MinimumLatitude = -90.0
    UpperLeftCornerX = -5458203.07634699997
    UpperLeftCornerY = 2729101.53817299986
    PixelResolution = 236.901174999999995
    Scale = 128.0
  End_Group
End_Object
Object = Label
  Bytes = 1166
End_Object
Object = History
  Name = IsisCube
  StartByte = 1
  Bytes = 2299
  ^History = Lunar_LRO_LOLA_ClrShade_Global_128ppd_v04.History.IsisCube
End_Object
End
