Object = IsisCube
  Object = Core
    StartByte = 1
    ^Core = ./LRO_NAC_DEM_26N004E_150cmp.cub
    Format = BandSequential
    Group = Dimensions
      Samples = 14944
      Lines = 26472
      Bands = 1
    End_Group
    Group = Pixels
      Type = Real
      ByteOrder = Lsb
      Base = 0
      Multiplier = 1
    End_Group
  End_Object
  Group = Archive
    DataSetId =
    ProducerInstitutionName = "Astrogeology Science Center"
    ProducerId = Astrogeology
    ProducerFullName = USGS
    ProductId = n/a
    ProductVersionId = n/a
    InstrumentHostName = n/a
    InstrumentName = n/a
    InstrumentId = n/a
    TargetName = Moon
    MissionPhaseName = n/a
  End_Group
  Group = Mapping
    ProjectionName = Equirectangular
    CenterLongitude = 0.00
    CenterLatitude = 26.00
    TargetName = Moon
    EquatorialRadius = 1737400.0
    PolarRadius = 1737400.0
    LatitudeType = Planetocentric
    LongitudeDirection = PositiveEast
    LongitudeDomain = 360
    PixelResolution = 1.50000000
    Scale = 20215.5669
    MinimumLatitude = 25.45461630
    MaximumLatitude = 26.76410221
    MinimumLongitude = 3.02716656
    MaximumLongitude = 3.84963785
    UpperLeftCornerX = 82503.750040
    UpperLeftCornerY = 811577.250102
  End_Group
End_Object
Object = Label
  Bytes = 256
End_Object
Object = History
  Name = IsisCube
  StartByte = 1
  Bytes = 256
  ^History = ./LRO_NAC_DEM_26N004E_150cmp.History.IsisCube
End_Object
End
