Object = IsisCube
  Object = Core
    StartByte = 1
    ^Core = LRO_NAC_Mosaic_17S173E_50cmp.cub
    Format = BandSequential
    Group = Dimensions
      Samples = 80035
      Lines = 80035
      Bands = 1
    End_Group
    Group = Pixels
      Type = UnsignedByte
      ByteOrder = Lsb
      Base = -1.007905138
      Multiplier = 1.007905138
    End_Group
  End_Object
  Group = Archive
    DataSetId = LRO_NAC_Mosaic_17S173E_50cmp
    ProducerInstitutionName = "Astrogeology Science Center"
    ProducerId = Astrogeology
    ProducerFullName = USGS
    ProductId = n/a
    ProductVersionId = n/a
    InstrumentHostName = n/a
    InstrumentName = n/a
    InstrumentId = n/a
    TargetName = MOON
    MissionPhaseName = n/a
  End_Group
  Group = Mapping
    ProjectionName = Equirectangular
    CenterLongitude = 0.00
    CenterLatitude = -17.00
    TargetName = MOON
    EquatorialRadius = 1737400.0
    PolarRadius = 1737400.0
    LatitudeType = Planetocentric
    LongitudeDirection = PositiveEast
    LongitudeDomain = 360
    PixelResolution = 0.50000000
    Scale = 60646.7008
    MinimumLatitude = -17.44449385
    MaximumLatitude = -16.12480129
    MinimumLongitude = 172.77650424
    MaximumLongitude = 174.15649588
    UpperLeftCornerX = 5010236.000000
    UpperLeftCornerY = -488958.000000
  End_Group
End_Object
Object = Label
  Bytes = 256
End_Object
Object = History
  Name = IsisCube
  StartByte = 1
  Bytes = 256
  ^History = LRO_NAC_Mosaic_17S173E_50cmp.History.IsisCube
End_Object
End
