Object = IsisCube
  Object = Core
    StartByte = 1
    ^Core = LRO_NAC_DEM_17S173E_150cmp.cub
    Format = BandSequential
    Group = Dimensions
      Samples = 10855
      Lines = 29528
      Bands = 1
    End_Group
    Group = Pixels
      Type = Real
      ByteOrder = Lsb
      Base = 0
      Multiplier = 1
    End_Group
  End_Object
  Group = Archive
    DataSetId = LRO_NAC_DEM_17S173E_150cmp
    ProducerInstitutionName = "Astrogeology Science Center"
    ProducerId = Astrogeology
    ProducerFullName = USGS
    ProductId = n/a
    ProductVersionId = n/a
    InstrumentHostName = n/a
    InstrumentName = n/a
    InstrumentId = n/a
    TargetName = Moon
    MissionPhaseName = n/a
  End_Group
  Group = Mapping
    ProjectionName = Equirectangular
    CenterLongitude = 0.00
    CenterLatitude = -17.00
    TargetName = Moon
    EquatorialRadius = 1737400.0
    PolarRadius = 1737400.0
    LatitudeType = Planetocentric
    LongitudeDirection = PositiveEast
    LongitudeDomain = 360
    PixelResolution = 1.50000000
    Scale = 20215.5669
    MinimumLatitude = -17.43599380
    MaximumLatitude = -15.97533726
    MinimumLongitude = 173.15712054
    MaximumLongitude = 173.71861773
    UpperLeftCornerX = 5021273.249978
    UpperLeftCornerY = -484425.749879
  End_Group
End_Object
Object = Label
  Bytes = 256
End_Object
Object = History
  Name = IsisCube
  StartByte = 1
  Bytes = 256
  ^History = LRO_NAC_DEM_17S173E_150cmp.History.IsisCube
End_Object
End
