Object = IsisCube
  Object = Core
    StartByte = 1309894
    Format = BandSequential
    Group = Dimensions
      Samples = 54545
      Lines = 27273
      Bands = 3
    End_Group
    Group = Pixels
      Type = UnsignedByte
      ByteOrder = Lsb
      Base = 0.0
      Multiplier = 1.0
    End_Group
    ^Core = Lunar_Clementine_UVVIS_Warp_ClrRatio_Global_200m.tif
  End_Object
  Group = Archive
    DataSetId = Clem_UVVIS_Warp_ClrRatio_Global_152ppd
    ProducerInstitutionName = "USGS, Astrogeology Science Center"
    ProducerId = Astrogeology
    ProducerFullName = "Astrogeology Science Center"
    ProductId = "Clementine Warp Color Ratio"
    ProductVersionId = 2.0
    InstrumentHostName = Clementine
    InstrumentName = "UV/VIS camera"
    InstrumentId = UVVIS
    TargetName = Moon
    MissionPhaseName = Nominal
  End_Group
  Group = Mapping
    ProjectionName = SimpleCylindrical
    CenterLongitude = 0.0
    TargetName = Moon
    EquatorialRadius = 1737400.0
    PolarRadius = 1737400.0
    LatitudeType = Planetocentric
    LongitudeDirection = PositiveEast
    LongitudeDomain = 180
    MinimumLatitude = -90.0
    MaximumLatitude = 90.0
    MinimumLongitude = -180.0
    MaximumLongitude = 180.0
    UpperLeftCornerX = -5458203.07634699997
    UpperLeftCornerY = 2729156.1202039998
    PixelResolution = 200.134113000000013
    Scale = 151.515199999999993
    CenterLatitude = 0.0
  End_Group
End_Object
Object = Label
  Bytes = 1910
End_Object
Object = History
  Name = IsisCube
  StartByte = 1
  Bytes = 942
  ^History = Lunar_Clementine_UVVIS_Warp_ClrRatio_Global_200m.History.IsisCube
End_Object
End
