Object = IsisCube
  Object = Core
    StartByte = 245954
    Format = BandSequential
    Group = Dimensions
      Samples = 61324
      Lines = 30662
      Bands = 1
    End_Group
    Group = Pixels
      Type = UnsignedByte
      ByteOrder = Lsb
      Base = 0.0
      Multiplier = 1.0
    End_Group
    ^Core = Mercury_MESSENGER_mosaic_global_250m_2013.tif
  End_Object
  Group = BandBin
    FilterName = NA
  End_Group
  Group = Mapping
    ProjectionName = Equirectangular
    CenterLongitude = 0.0
    TargetName = Mercury
    EquatorialRadius = 2440000.0
    PolarRadius = 2440000.0
    LatitudeType = Planetocentric
    LongitudeDirection = PositiveEast
    LongitudeDomain = 180
    MinimumLatitude = -90.0
    MaximumLatitude = 90.0
    MinimumLongitude = -180.0
    MaximumLongitude = 180.0
    UpperLeftCornerX = -7665486.07475899998
    UpperLeftCornerY = 3832743.03737899987
    PixelResolution = 249.999546000000009
    Scale = 170.34444400000001
    CenterLatitude = 0
    CenterLatitudeRadius = 2440000.0
  End_Group
End_Object
Object = Label
  Bytes = 1450
End_Object
Object = History
  Name = IsisCube
  StartByte = 1
  Bytes = 6010
  ^History = Mercury_MESSENGER_mosaic_global_250m_2013.History.IsisCube
End_Object
End
