Object = IsisCube
  Object = Core
    StartByte = 277140
    Format = BandSequential
    Group = Dimensions
      Samples = 23040
      Lines = 11520
      Bands = 3
    End_Group
    Group = Pixels
      Type = UnsignedByte
      ByteOrder = Lsb
      Base = 0.0
      Multiplier = 1.0
    End_Group
    ^Core = Mercury_MESSENGER_MDIS_Basemap_EnhancedColor_Mosaic_Global_665- m.tif
  End_Object
  Group = Archive
    DataSetId = GlobalColor_equi_64ppd.PC2.PC1.430over1000
    ProducerInstitutionName = "APPLIED COHERENT TECHNOLOGY CORPORATION"
    ProducerId = ACT
    ProducerFullName = "APPLIED COHERENT TECHNOLOGY"
    ProductId = MDIS_ENHANCED_COLOR_256PPD_GLOBAL_8BIT
    ProductVersionId = 1
    InstrumentHostName = MESSENGER
    InstrumentName = "(MERCURY DUAL IMAGING SYSTEM NARROW ANGLE CAMERA, MERCURY DUAL IMAGING SYSTEM WIDE ANGLE CAMERA)"
    InstrumentId = "(MDIS-NAC, MDIS-WAC)"
    TargetName = MERCURY
    MissionPhaseName = "color map campaign"
  End_Group
  Group = Mapping
    ProjectionName = SimpleCylindrical
    CenterLongitude = 0.0
    TargetName = Mercury
    EquatorialRadius = 2439400.0
    PolarRadius = 2439400.0
    LatitudeType = Planetocentric
    LongitudeDirection = PositiveEast
    LongitudeDomain = 180
    MinimumLatitude = -90.0
    MaximumLatitude = 90.0
    MinimumLongitude = -180.0
    MaximumLongitude = 180.0
    UpperLeftCornerX = -7663601.11916700006
    UpperLeftCornerY = 3831800.55958299991
    PixelResolution = 665.243153000000007
    Scale = 64.0
    CenterLatitude = 0.0
  End_Group
End_Object
Object = Label
  Bytes = 2179
End_Object
Object = History
  Name = IsisCube
  StartByte = 1
  Bytes = 1004
  ^History = Mercury_MESSENGER_MDIS_Basemap_EnhancedColor_Mosaic_Global_665m.- History.IsisCube
End_Object
End
