PDS_VERSION_ID = PDS3
DD_VERSION_ID = PDSCAT1R100
LABEL_REVISION_NOTE = "2017-05-01, David P. Mayer (USGS), initial PDS3 label pointing to GeoTIFF;"
RECORD_TYPE = FIXED_LENGTH
DATA_SET_ID = MESS-H-MDIS-5-RDR-BDR-V1.0
PRODUCER_ID = ACT
PRODUCER_FULL_NAME = "APPLIED COHERENT TECHNOLOGY"
PRODUCER_INSTITUTION_NAME = "APPLIED COHERENT TECHNOLOGY CORPORATION"
PRODUCT_ID = MDIS_BDR_256PPD_GLOBAL_8BIT
INSTRUMENT_HOST_NAME = MESSENGER
INSTRUMENT_NAME = "(MERCURY DUAL IMAGING SYSTEM NARROW ANGLE CAMERA, MERCURY DUAL IMAGING SYSTEM WIDE ANGLE CAMERA)"
INSTRUMENT_ID = "(MDIS-NAC, MDIS-WAC)"
RECORD_BYTES = 92160
TARGET_NAME = MERCURY
^IMAGE = ("Mercury_MESSENGER_MDIS_Basemap_BDR_Mosaic_Global_166m.tif", 738102 )
OBJECT = IMAGE
  LINES = 46080
  LINE_SAMPLES = 92160
  SAMPLE_BITS = 8
  SAMPLE_TYPE = LSB_UNSIGNED_INTEGER
  BANDS = 1
  BAND_STORAGE_TYPE = BAND_SEQUENTIAL
END_OBJECT = IMAGE
OBJECT = IMAGE_MAP_PROJECTION
  MAP_PROJECTION_TYPE = SIMPLE_CYLINDRICAL
  A_AXIS_RADIUS = 2439.4
  B_AXIS_RADIUS = 2439.4
  C_AXIS_RADIUS = 2439.4
  FIRST_STANDARD_PARALLEL = N/A
  SECOND_STANDARD_PARALLEL = N/A
  POSITIVE_LONGITUDE_DIRECTION = EAST
  CENTER_LATITUDE = 0.0
  CENTER_LONGITUDE = 0.0
  REFERENCE_LATITUDE = N/A
  REFERENCE_LONGITUDE = N/A
  LINE_FIRST_PIXEL = 1
  LINE_LAST_PIXEL = 46080
  SAMPLE_FIRST_PIXEL = 1
  SAMPLE_LAST_PIXEL = 92160
  MAP_PROJECTION_ROTATION = 0.0
  MAP_RESOLUTION = 256.0
  MAP_SCALE = 166.310788
  MAXIMUM_LATITUDE = 90.0
  MINIMUM_LATITUDE = -90.0
  EASTERNMOST_LONGITUDE = 180.0
  WESTERNMOST_LONGITUDE = -180.0
  LINE_PROJECTION_OFFSET = 23039.500024430163
  SAMPLE_PROJECTION_OFFSET = 46079.50004886634
  COORDINATE_SYSTEM_TYPE = "BODY-FIXED ROTATING"
  COORDINATE_SYSTEM_NAME = PLANETOCENTRIC
  PROJECTION_LATITUDE_TYPE = PLANETOCENTRIC
END_OBJECT = IMAGE_MAP_PROJECTION
END
