Object = IsisCube
  Object = Core
    StartByte = 123340
    Format = BandSequential
    Group = Dimensions
      Samples = 30662
      Lines = 15332
      Bands = 1
    End_Group
    Group = Pixels
      Type = Real
      ByteOrder = Lsb
      Base = 0.0
      Multiplier = 1.0
    End_Group
    ^Core = Mercury_M1_M2_M3_M10_mosaic_global_2010.tif
  End_Object
  Group = BandBin
    Name = "748 BP 53"
    Number = 2
    Center = 747.700000000000045
    Width = 52.6000000000000014
  End_Group
  Group = Mapping
    ProjectionName = Equirectangular
    CenterLongitude = 0.0
    TargetName = Mercury
    EquatorialRadius = 2440000.0
    PolarRadius = 2440000.0
    LatitudeType = Planetocentric
    LongitudeDirection = PositiveEast
    LongitudeDomain = 180
    MinimumLatitude = -90.0
    MaximumLatitude = 90.0
    MinimumLongitude = -180.0
    MaximumLongitude = 180.0
    UpperLeftCornerX = -7665500.0
    UpperLeftCornerY = 3833000.0
    PixelResolution = 500.0
    Scale = 85.1720669999999984
    CenterLatitude = 0.0
    CenterLatitudeRadius = 2440000.0
  End_Group
End_Object
Object = Label
  Bytes = 1494
End_Object
Object = History
  Name = IsisCube
  StartByte = 1
  Bytes = 3509
  ^History = Mercury_M1_M2_M3_M10_mosaic_global_2010.History.IsisCube
End_Object
End
