Object = IsisCube
  Object = Core
    StartByte = 854273
    ^Core = Mars_HRSC_MOLA_BlendShade_Global_200mp.tif
    Format = BandSequential
    Group = Dimensions
      Samples = 106694
      Lines = 53347
      Bands = 1
    End_Group
    Group = Pixels
      Type = UnsignedByte
      ByteOrder = Lsb
      Base = 0.0
      Multiplier = 1.0
    End_Group
  End_Object
  Group = Mapping
    TargetName = Mars
    EquatorialRadius = 3396190.0
    PolarRadius = 3396190.0
    LatitudeType = Planetocentric
    LongitudeDirection = PositiveEast
    LongitudeDomain = 180
    MinimumLatitude = -89.9992239522091495
    MinimumLongitude = -180.0
    MaximumLatitude = 90.0
    MaximumLongitude = 179.998447904418299
    ProjectionName = SimpleCylindrical
    CenterLongitude = 0.0
    CenterLatitude = 0.0
    CenterLatitudeRadius = 3396190.0
    UpperLeftCornerX = -10669445.5541951191
    UpperLeftCornerY = 5334722.77709755953
    PixelResolution = 199.999991643336131
    Scale = 296.373499999999694
  End_Group
End_Object
Object = Label
  Bytes = 1259
End_Object
End
