100
0.0
0.0
-100
-53350
-32050
