100
0.0
0.0
-100
-106650
-740950
