100.0000000000
0.0000000000
0.0000000000
-100.0000000000
7112950.0000000000
3556450.0000000000
