PDS_VERSION_ID = PDS3
DD_VERSION_ID = PDSCAT1R100
LABEL_REVISION_NOTE = "2017-10-27, David P. Mayer (USGS), initial PDS3 label pointing to GeoTIFF;"
RECORD_TYPE = FIXED_LENGTH
RECORD_BYTES = 6974
TARGET_NAME = MARS
^IMAGE = ("J03_046060_1986_XN_18N282W_6m_ORTHO.tif", 140230 )
OBJECT = IMAGE
  LINES = 17448
  LINE_SAMPLES = 6974
  SAMPLE_BITS = 8
  SAMPLE_TYPE = LSB_UNSIGNED_INTEGER
  BANDS = 1
  BAND_STORAGE_TYPE = BAND_SEQUENTIAL
  SCALING_FACTOR = 1.0
  OFFSET = 0.0
END_OBJECT = IMAGE
OBJECT = IMAGE_MAP_PROJECTION
  MAP_PROJECTION_TYPE = EQUIRECTANGULAR
  A_AXIS_RADIUS = 3396.19
  B_AXIS_RADIUS = 3396.19
  C_AXIS_RADIUS = 3376.2
  FIRST_STANDARD_PARALLEL = N/A
  SECOND_STANDARD_PARALLEL = N/A
  POSITIVE_LONGITUDE_DIRECTION = EAST
  CENTER_LATITUDE = 0
  CENTER_LONGITUDE = 180
  REFERENCE_LATITUDE = N/A
  REFERENCE_LONGITUDE = N/A
  LINE_FIRST_PIXEL = 1
  LINE_LAST_PIXEL = 17448
  SAMPLE_FIRST_PIXEL = 1
  SAMPLE_LAST_PIXEL = 6974
  MAP_PROJECTION_ROTATION = 0.0
  MAP_RESOLUTION = 9780.67486182
  MAP_SCALE = 6.0603893249424
  MAXIMUM_LATITUDE = 19.319705663163
  MINIMUM_LATITUDE = 17.535794352773
  EASTERNMOST_LONGITUDE = 77.79602172
  WESTERNMOST_LONGITUDE = 77.08300997
  LINE_PROJECTION_OFFSET = 188959.49999999738
  SAMPLE_PROJECTION_OFFSET = 1006597.500000005
  COORDINATE_SYSTEM_TYPE = "BODY-FIXED ROTATING"
  COORDINATE_SYSTEM_NAME = PLANETOCENTRIC
  PROJECTION_LATITUDE_TYPE = PLANETOCENTRIC
END_OBJECT = IMAGE_MAP_PROJECTION
END
