PDS_VERSION_ID = PDS3
DD_VERSION_ID = PDSCAT1R100
LABEL_REVISION_NOTE = "2017-10-27, David P. Mayer (USGS), initial PDS3 label pointing to GeoTIFF;"
RECORD_TYPE = FIXED_LENGTH
RECORD_BYTES = 8372
TARGET_NAME = MARS
^IMAGE = ("J03_045994_1986_J03_046060_1986_20m_slope_20m.tif", 42552 )
OBJECT = IMAGE
  LINES = 5235
  LINE_SAMPLES = 2093
  SAMPLE_BITS = 32
  SAMPLE_TYPE = IEEE_REAL
  BANDS = 1
  BAND_STORAGE_TYPE = BAND_SEQUENTIAL
  SCALING_FACTOR = 1.0
  OFFSET = 0.0
END_OBJECT = IMAGE
OBJECT = IMAGE_MAP_PROJECTION
  MAP_PROJECTION_TYPE = EQUIRECTANGULAR
  A_AXIS_RADIUS = 3396.19
  B_AXIS_RADIUS = 3396.19
  C_AXIS_RADIUS = 3396.19
  FIRST_STANDARD_PARALLEL = N/A
  SECOND_STANDARD_PARALLEL = N/A
  POSITIVE_LONGITUDE_DIRECTION = EAST
  CENTER_LATITUDE = 0.0
  CENTER_LONGITUDE = 180.0
  REFERENCE_LATITUDE = N/A
  REFERENCE_LONGITUDE = N/A
  LINE_FIRST_PIXEL = 1
  LINE_LAST_PIXEL = 5235
  SAMPLE_FIRST_PIXEL = 1
  SAMPLE_LAST_PIXEL = 2093
  MAP_PROJECTION_ROTATION = 0.0
  MAP_RESOLUTION = 2934.202458540035
  MAP_SCALE = 20.201297749849
  MAXIMUM_LATITUDE = 19.319900654779396
  MINIMUM_LATITUDE = 17.5357701886749
  EASTERNMOST_LONGITUDE = 77.7959073249433
  WESTERNMOST_LONGITUDE = 77.08259594661347
  LINE_PROJECTION_OFFSET = 56688.00000000296
  SAMPLE_PROJECTION_OFFSET = 301980.00000000495
  COORDINATE_SYSTEM_TYPE = "BODY-FIXED ROTATING"
  COORDINATE_SYSTEM_NAME = PLANETOCENTRIC
  PROJECTION_LATITUDE_TYPE = PLANETOCENTRIC
END_OBJECT = IMAGE_MAP_PROJECTION
END
