Object = IsisCube
  Object = Core
    StartByte = 23424
    ^Core = F21_043907_1652_F21_043841_1654_20m_slope_20m.tif
    Format = BandSequential
    Group = Dimensions
      Samples = 1661
      Lines = 2844
      Bands = 1
    End_Group
    Group = Pixels
      Type = Real
      ByteOrder = Lsb
      Base = 0.0
      Multiplier = 1.0
    End_Group
  End_Object
  Group = Mapping
    TargetName = Mars
    EquatorialRadius = 3396190.0
    PolarRadius = 3396190.0
    LatitudeType = Planetocentric
    LongitudeDirection = PositiveEast
    LongitudeDomain = 180
    MinimumLatitude = -15.1424648054195519
    MinimumLongitude = 175.155877679666929
    MaximumLatitude = -14.1725831567147988
    MaximumLongitude = 175.722324029350006
    ProjectionName = Equirectangular
    CenterLongitude = 180.0
    CenterLatitude = 0.0
    CenterLatitudeRadius = 3396190.0
    UpperLeftCornerX = -287133.885303635558
    UpperLeftCornerY = -840075.579738174449
    PixelResolution = 20.2142902111040002
    Scale = 2932.31653965004307
  End_Group
End_Object
Object = Label
  Bytes = 1285
End_Object
End
