PDS_VERSION_ID = PDS3
DD_VERSION_ID = PDSCAT1R100
LABEL_REVISION_NOTE = "2017-10-27, David P. Mayer (USGS), initial PDS3 label pointing to GeoTIFF;"
RECORD_TYPE = FIXED_LENGTH
RECORD_BYTES = 5535
TARGET_NAME = MARS
^IMAGE = ("F21_043841_1654_XN_14S184W_6m_ORTHO.tif", 76486 )
OBJECT = IMAGE
  LINES = 9480
  LINE_SAMPLES = 5535
  SAMPLE_BITS = 8
  SAMPLE_TYPE = LSB_UNSIGNED_INTEGER
  BANDS = 1
  BAND_STORAGE_TYPE = BAND_SEQUENTIAL
  SCALING_FACTOR = 1.0
  OFFSET = 0.0
END_OBJECT = IMAGE
OBJECT = IMAGE_MAP_PROJECTION
  MAP_PROJECTION_TYPE = EQUIRECTANGULAR
  A_AXIS_RADIUS = 3396.19
  B_AXIS_RADIUS = 3396.19
  C_AXIS_RADIUS = 3376.2
  FIRST_STANDARD_PARALLEL = N/A
  SECOND_STANDARD_PARALLEL = N/A
  POSITIVE_LONGITUDE_DIRECTION = EAST
  CENTER_LATITUDE = 0
  CENTER_LONGITUDE = 180
  REFERENCE_LATITUDE = N/A
  REFERENCE_LONGITUDE = N/A
  LINE_FIRST_PIXEL = 1
  LINE_LAST_PIXEL = 9480
  SAMPLE_FIRST_PIXEL = 1
  SAMPLE_LAST_PIXEL = 5535
  MAP_PROJECTION_ROTATION = 0.0
  MAP_RESOLUTION = 9774.3884655
  MAP_SCALE = 6.0642870633313
  MAXIMUM_LATITUDE = -14.172801195334
  MINIMUM_LATITUDE = -15.142588378383
  EASTERNMOST_LONGITUDE = 175.72245725
  WESTERNMOST_LONGITUDE = 175.15626276
  LINE_PROJECTION_OFFSET = -138530.49999999919
  SAMPLE_PROJECTION_OFFSET = 47344.49999999993
  COORDINATE_SYSTEM_TYPE = "BODY-FIXED ROTATING"
  COORDINATE_SYSTEM_NAME = PLANETOCENTRIC
  PROJECTION_LATITUDE_TYPE = PLANETOCENTRIC
END_OBJECT = IMAGE_MAP_PROJECTION
END
