PDS_VERSION_ID = PDS3
DD_VERSION_ID = PDSCAT1R100
LABEL_REVISION_NOTE = "2017-10-27, David P. Mayer (USGS), initial PDS3 label pointing to GeoTIFF;"
RECORD_TYPE = FIXED_LENGTH
RECORD_BYTES = 6087
TARGET_NAME = MARS
^IMAGE = ("D21_035237_2021_XN_22N022W_6m_ORTHO.tif", 60990 )
OBJECT = IMAGE
  LINES = 7543
  LINE_SAMPLES = 6087
  SAMPLE_BITS = 8
  SAMPLE_TYPE = LSB_UNSIGNED_INTEGER
  BANDS = 1
  BAND_STORAGE_TYPE = BAND_SEQUENTIAL
  SCALING_FACTOR = 1.0
  OFFSET = 0.0
END_OBJECT = IMAGE
OBJECT = IMAGE_MAP_PROJECTION
  MAP_PROJECTION_TYPE = EQUIRECTANGULAR
  A_AXIS_RADIUS = 3396.19
  B_AXIS_RADIUS = 3396.19
  C_AXIS_RADIUS = 3376.2
  FIRST_STANDARD_PARALLEL = N/A
  SECOND_STANDARD_PARALLEL = N/A
  POSITIVE_LONGITUDE_DIRECTION = EAST
  CENTER_LATITUDE = 0
  CENTER_LONGITUDE = 180
  REFERENCE_LATITUDE = N/A
  REFERENCE_LONGITUDE = N/A
  LINE_FIRST_PIXEL = 1
  LINE_LAST_PIXEL = 7543
  SAMPLE_FIRST_PIXEL = 1
  SAMPLE_LAST_PIXEL = 6087
  MAP_PROJECTION_ROTATION = 0.0
  MAP_RESOLUTION = 9787.54226065
  MAP_SCALE = 6.0561370714705
  MAXIMUM_LATITUDE = 22.311671924851
  MINIMUM_LATITUDE = 21.541022538787
  EASTERNMOST_LONGITUDE = 338.16283712
  WESTERNMOST_LONGITUDE = 337.54095479
  LINE_PROJECTION_OFFSET = 218376.49999999776
  SAMPLE_PROJECTION_OFFSET = -1541938.4999999867
  COORDINATE_SYSTEM_TYPE = "BODY-FIXED ROTATING"
  COORDINATE_SYSTEM_NAME = PLANETOCENTRIC
  PROJECTION_LATITUDE_TYPE = PLANETOCENTRIC
END_OBJECT = IMAGE_MAP_PROJECTION
END
