PDS_VERSION_ID = PDS3
DD_VERSION_ID = PDSCAT1R100
LABEL_REVISION_NOTE = "2017-10-27, David P. Mayer (USGS), initial PDS3 label pointing to GeoTIFF;"
RECORD_TYPE = FIXED_LENGTH
RECORD_BYTES = 7308
TARGET_NAME = MARS
^IMAGE = ("D21_035237_2021_F01_036358_2020_20m_slope_20m.tif", 18776 )
OBJECT = IMAGE
  LINES = 2263
  LINE_SAMPLES = 1827
  SAMPLE_BITS = 32
  SAMPLE_TYPE = IEEE_REAL
  BANDS = 1
  BAND_STORAGE_TYPE = BAND_SEQUENTIAL
  SCALING_FACTOR = 1.0
  OFFSET = 0.0
END_OBJECT = IMAGE
OBJECT = IMAGE_MAP_PROJECTION
  MAP_PROJECTION_TYPE = EQUIRECTANGULAR
  A_AXIS_RADIUS = 3396.19
  B_AXIS_RADIUS = 3396.19
  C_AXIS_RADIUS = 3396.19
  FIRST_STANDARD_PARALLEL = N/A
  SECOND_STANDARD_PARALLEL = N/A
  POSITIVE_LONGITUDE_DIRECTION = EAST
  CENTER_LATITUDE = 0.0
  CENTER_LONGITUDE = 180.0
  REFERENCE_LATITUDE = N/A
  REFERENCE_LONGITUDE = N/A
  LINE_FIRST_PIXEL = 1
  LINE_LAST_PIXEL = 2263
  SAMPLE_FIRST_PIXEL = 1
  SAMPLE_LAST_PIXEL = 1827
  MAP_PROJECTION_ROTATION = 0.0
  MAP_RESOLUTION = 2936.2626781899367
  MAP_SCALE = 20.187123571603
  MAXIMUM_LATITUDE = 22.311866198695995
  MINIMUM_LATITUDE = 21.54115858564449
  EASTERNMOST_LONGITUDE = -21.837209099331922
  WESTERNMOST_LONGITUDE = -22.459428634924002
  LINE_PROJECTION_OFFSET = 65512.99999999865
  SAMPLE_PROJECTION_OFFSET = -462580.99999999074
  COORDINATE_SYSTEM_TYPE = "BODY-FIXED ROTATING"
  COORDINATE_SYSTEM_NAME = PLANETOCENTRIC
  PROJECTION_LATITUDE_TYPE = PLANETOCENTRIC
END_OBJECT = IMAGE_MAP_PROJECTION
END
