Object = IsisCube
  Object = Core
    StartByte = 18776
    ^Core = D21_035237_2021_F01_036358_2020_20m_slope_20m.tif
    Format = BandSequential
    Group = Dimensions
      Samples = 1827
      Lines = 2263
      Bands = 1
    End_Group
    Group = Pixels
      Type = Real
      ByteOrder = Lsb
      Base = 0.0
      Multiplier = 1.0
    End_Group
  End_Object
  Group = Mapping
    TargetName = Mars
    EquatorialRadius = 3396190.0
    PolarRadius = 3396190.0
    LatitudeType = Planetocentric
    LongitudeDirection = PositiveEast
    LongitudeDomain = 180
    MinimumLatitude = 21.5411585856444887
    MinimumLongitude = -22.4594286349240022
    MaximumLatitude = 22.311866198695995
    MaximumLongitude = -21.8372090993319219
    ProjectionName = Equirectangular
    CenterLongitude = 180.0
    CenterLatitude = 0.0
    CenterLatitudeRadius = 3396190.0
    UpperLeftCornerX = 9338169.715313714
    UpperLeftCornerY = 1322529.1201081858
    PixelResolution = 20.1871235716029993
    Scale = 2936.26267818993665
  End_Group
End_Object
Object = Label
  Bytes = 1279
End_Object
End
