Object = IsisCube
  Object = Core
    StartByte = 90894
    Format = BandSequential
    Group = Dimensions
      Samples = 6256
      Lines = 11281
      Bands = 1
    End_Group
    Group = Pixels
      Type = UnsignedByte
      ByteOrder = Lsb
      Base = 0.0
      Multiplier = 1.0
    End_Group
    ^Core = B18_016575_1978_XN_17N282W_6m_ORTHO.tif
  End_Object
  Group = Mapping
    ProjectionName = Equirectangular
    CenterLongitude = 180
    TargetName = Mars
    EquatorialRadius = 3396190
    PolarRadius = 3376200
    LatitudeType = Planetocentric
    LongitudeDirection = PositiveEast
    LongitudeDomain = 360
    MinimumLatitude = 17.0840381521679987
    MaximumLatitude = 18.237593846387
    MinimumLongitude = 76.9389658500000024
    MaximumLongitude = 77.5785957800000006
    UpperLeftCornerX = -6108915.64181680046
    UpperLeftCornerY = 1081030.31771300011
    PixelResolution = 6.06118381924030025
    Scale = 9779.39282011999967
    CenterLatitude = 0
  End_Group
  Group = AlphaCube
    AlphaSamples = 6017
    AlphaLines = 11390
    AlphaStartingSample = 0.5
    AlphaStartingLine = 0.5
    AlphaEndingSample = 6017.5
    AlphaEndingLine = 11390.5
    BetaSamples = 5953
    BetaLines = 11390
  End_Group
End_Object
Object = Label
  Bytes = 1502
End_Object
End
